BEGIN:VCALENDAR
VERSION:2.0
PRODID:-//The Parks DC//EN
BEGIN:VEVENT
UID:1776788418@theparksdc.com
DTSTAMP:20260421T162018
DTSTART:20240101T000000
DTEND:20240101T000000
SUMMARY:Year-Round Farmers Markets Nearby
DESCRIPTION:The Takoma Park Farmers Market is open year-round.

URL:https://theparksdc.com/event/year-round-farmers-markets-nearby/
END:VEVENT
END:VCALENDAR